BEGIN:VCALENDAR
VERSION:2.0
PRODID:-//wp-events-plugin.com//7.2.3.1//EN
TZID:Australia/Darwin
X-WR-TIMEZONE:Australia/Darwin
BEGIN:VEVENT
UID:44@topendhash.com
DTSTART;TZID=Australia/Darwin:20200102T180000
DTEND;TZID=Australia/Darwin:20200102T233000
DTSTAMP:20191221T023605Z
URL:https://topendhash.com/events/on-on-to-the-best-run-of-the-year-run-nu
 mber-965-set-by-cbd/
SUMMARY:Run Number 965 - CBD - 26 Oriole Street Wulagi - CLICK ON LINK FOR 
 GOOGLE MAP
DESCRIPTION:26 Oriole Street WulagI\n\n
END:VEVENT
BEGIN:VTIMEZONE
TZID:Australia/Darwin
X-LIC-LOCATION:Australia/Darwin
BEGIN:STANDARD
DTSTART:20190102T180000
TZOFFSETFROM:+0930
TZOFFSETTO:+0930
TZNAME:ACST
END:STANDARD
END:VTIMEZONE
END:VCALENDAR