BEGIN:VCALENDAR
VERSION:2.0
PRODID:-//wp-events-plugin.com//7.2.3.1//EN
TZID:Australia/Darwin
X-WR-TIMEZONE:Australia/Darwin
BEGIN:VEVENT
UID:267@topendhash.com
DTSTART;TZID=Australia/Darwin:20221203T163000
DTEND;TZID=Australia/Darwin:20221203T221500
DTSTAMP:20221128T112858Z
URL:https://topendhash.com/events/gms-fairwell-soiree-hash-click-on-this-l
 ink-for-misdirections-and-covid-19-restrictions/
SUMMARY:GM'S FAIRWELL SOIREE HASH - START AT NOVAKS PLACE AT 1600h -  UNIT 
 8 - 9 THE ESPLANADE DARWIN - CLICK ON THIS LINK FOR MISDIRECTIONS AND COVI
 D-19 RESTRICTIONS
DESCRIPTION:Start at Novaks place. 9 Esplanade\, Darwin\n\nStarts at 1600h\
 n\n\n\n\n\n\n\nClick on this link for Venue and Timings - https://topendha
 sh.com/soiree-hash/\nCOVID-19 RESTRICTIONS\n\nClick on the below link for 
 COVID-19 Restrictions\n\nhttps://topendhash.com/covid-19-restrictions/\n
END:VEVENT
BEGIN:VTIMEZONE
TZID:Australia/Darwin
X-LIC-LOCATION:Australia/Darwin
BEGIN:STANDARD
DTSTART:20211203T163000
TZOFFSETFROM:+0930
TZOFFSETTO:+0930
TZNAME:ACST
END:STANDARD
END:VTIMEZONE
END:VCALENDAR