BEGIN:VCALENDAR
VERSION:2.0
PRODID:-//wp-events-plugin.com//7.2.3.1//EN
TZID:Australia/Darwin
X-WR-TIMEZONE:Australia/Darwin
BEGIN:VEVENT
UID:160@topendhash.com
DTSTART;TZID=Australia/Darwin:20210501T180000
DTEND;TZID=Australia/Darwin:20210501T233000
DTSTAMP:20210125T075057Z
URL:https://topendhash.com/events/agpu/
SUMMARY:1037 - AGPU - Coomalie Creek Christian Camp\, Coomalie - CLICK ON T
 HIS LINK FOR MISDIRECTIONS
DESCRIPTION:Coomalie Creek Christian Camp\, Coomalie\n\n\n\n
END:VEVENT
BEGIN:VTIMEZONE
TZID:Australia/Darwin
X-LIC-LOCATION:Australia/Darwin
BEGIN:STANDARD
DTSTART:20200501T180000
TZOFFSETFROM:+0930
TZOFFSETTO:+0930
TZNAME:ACST
END:STANDARD
END:VTIMEZONE
END:VCALENDAR