BEGIN:VCALENDAR
VERSION:2.0
PRODID:-//wp-events-plugin.com//7.2.3.1//EN
TZID:Australia/Darwin
X-WR-TIMEZONE:Australia/Darwin
BEGIN:VEVENT
UID:117@topendhash.com
DTSTART;TZID=Australia/Darwin:20200827T180000
DTEND;TZID=Australia/Darwin:20200827T233000
DTSTAMP:20200815T044645Z
URL:https://topendhash.com/events/999/
SUMMARY:999- BOT BOT AND SHIT HAPPENS - Intersection of Coffey and Bree Str
 eet - Wishart Business Precinct (near Durack) - CLICK ON THIS LINK FOR GOO
 GLE MAP CLICK ON THIS LINK FOR MISDIRECTIONS
DESCRIPTION:Intersection of Coffey and Bree Street - Wishart Business Preci
 nct (near Durack)\n\n﻿
END:VEVENT
BEGIN:VTIMEZONE
TZID:Australia/Darwin
X-LIC-LOCATION:Australia/Darwin
BEGIN:STANDARD
DTSTART:20190828T180000
TZOFFSETFROM:+0930
TZOFFSETTO:+0930
TZNAME:ACST
END:STANDARD
END:VTIMEZONE
END:VCALENDAR