BEGIN:VCALENDAR
VERSION:2.0
PRODID:-//wp-events-plugin.com//7.2.3.1//EN
TZID:Australia/Darwin
X-WR-TIMEZONE:Australia/Darwin
BEGIN:VEVENT
UID:116@topendhash.com
DTSTART;TZID=Australia/Darwin:20200820T180000
DTEND;TZID=Australia/Darwin:20200820T233000
DTSTAMP:20200815T043441Z
URL:https://topendhash.com/events/998/
SUMMARY:998- SLIP AND JUMPING JACK - CLICK ON THIS LINK FOR MISDIRECTIONS -
  East Point  - Head towards the end of East Point Reserve - THIS IS A NO D
 OG RUN
DESCRIPTION:East Point\n\nHead towards the end of East Point Reserve\n\nTHI
 S IS A NO DOG RUN\n\n
END:VEVENT
BEGIN:VTIMEZONE
TZID:Australia/Darwin
X-LIC-LOCATION:Australia/Darwin
BEGIN:STANDARD
DTSTART:20190821T180000
TZOFFSETFROM:+0930
TZOFFSETTO:+0930
TZNAME:ACST
END:STANDARD
END:VTIMEZONE
END:VCALENDAR