BEGIN:VCALENDAR
VERSION:2.0
PRODID:-//wp-events-plugin.com//7.2.3.1//EN
TZID:Australia/Darwin
X-WR-TIMEZONE:Australia/Darwin
BEGIN:VEVENT
UID:112@topendhash.com
DTSTART;TZID=Australia/Darwin:20200723T180000
DTEND;TZID=Australia/Darwin:20200723T233000
DTSTAMP:20200719T090441Z
URL:https://topendhash.com/events/994/
SUMMARY:994 - DUREX AND PLAYSCHOOL - 8TH YEAR ANNIVERSARY RUN\, NORTH WEST 
 END OF MINDIL BEACH MARKETS -CLICK ON THIS LINK FOR MISDIRECTIONS
DESCRIPTION:8TH YEAR ANNIVERSARY RUN\n\nNORTH WEST END OF MINDIL BEACH MARK
 ETS\n\n
END:VEVENT
BEGIN:VTIMEZONE
TZID:Australia/Darwin
X-LIC-LOCATION:Australia/Darwin
BEGIN:STANDARD
DTSTART:20190724T180000
TZOFFSETFROM:+0930
TZOFFSETTO:+0930
TZNAME:ACST
END:STANDARD
END:VTIMEZONE
END:VCALENDAR