BEGIN:VCALENDAR
VERSION:2.0
PRODID:-//wp-events-plugin.com//7.2.3.1//EN
TZID:Australia/Darwin
X-WR-TIMEZONE:Australia/Darwin
BEGIN:VEVENT
UID:111@topendhash.com
DTSTART;TZID=Australia/Darwin:20200716T180000
DTEND;TZID=Australia/Darwin:20200716T233000
DTSTAMP:20200713T103824Z
URL:https://topendhash.com/events/993/
SUMMARY:993 - KAROKE - 18 SANDLEWOOD CRESCENT - NIGHTCLIFF - CLICK ON THIS 
 LINK FOR MISDIRECTIONS
DESCRIPTION:18 SANDLEWOOD CRESCENT\nNIGHTCLIFF \n\n
END:VEVENT
BEGIN:VTIMEZONE
TZID:Australia/Darwin
X-LIC-LOCATION:Australia/Darwin
BEGIN:STANDARD
DTSTART:20190717T180000
TZOFFSETFROM:+0930
TZOFFSETTO:+0930
TZNAME:ACST
END:STANDARD
END:VTIMEZONE
END:VCALENDAR