BEGIN:VCALENDAR
VERSION:2.0
PRODID:-//wp-events-plugin.com//7.2.3.1//EN
TZID:Australia/Darwin
X-WR-TIMEZONE:Australia/Darwin
BEGIN:VEVENT
UID:110@topendhash.com
DTSTART;TZID=Australia/Darwin:20200709T180000
DTEND;TZID=Australia/Darwin:20200709T233000
DTSTAMP:20200630T081205Z
URL:https://topendhash.com/events/992/
SUMMARY:992 - CLASSIC AND FAKIN IT- 9 HUGH CRT\, BAKEWELL - CLICK ON THIS L
 INK FOR MISDIRECTIONS
DESCRIPTION:9 HUGH CRT\, BAKEWELL\n\n
END:VEVENT
BEGIN:VTIMEZONE
TZID:Australia/Darwin
X-LIC-LOCATION:Australia/Darwin
BEGIN:STANDARD
DTSTART:20190710T180000
TZOFFSETFROM:+0930
TZOFFSETTO:+0930
TZNAME:ACST
END:STANDARD
END:VTIMEZONE
END:VCALENDAR