BEGIN:VCALENDAR
VERSION:2.0
PRODID:-//wp-events-plugin.com//7.2.3.1//EN
TZID:Australia/Darwin
X-WR-TIMEZONE:Australia/Darwin
BEGIN:VEVENT
UID:109@topendhash.com
DTSTART;TZID=Australia/Darwin:20200702T180000
DTEND;TZID=Australia/Darwin:20200702T233000
DTSTAMP:20200630T081405Z
URL:https://topendhash.com/events/991/
SUMMARY:991 - FOCKER AND THONGS - 3 SANDERLING ST\, WULAGI - NOTE THIS IS A
  NO DOG RUN - CLICK ON THIS LINK FOR MISDIRECTIONS
DESCRIPTION:PLEASE NOTE - THIS IS A NO DOG RUN\n\n3 SANDERLING ST\, WULAGI\
 n\n
END:VEVENT
BEGIN:VTIMEZONE
TZID:Australia/Darwin
X-LIC-LOCATION:Australia/Darwin
BEGIN:STANDARD
DTSTART:20190703T180000
TZOFFSETFROM:+0930
TZOFFSETTO:+0930
TZNAME:ACST
END:STANDARD
END:VTIMEZONE
END:VCALENDAR