BEGIN:VCALENDAR
VERSION:2.0
PRODID:-//wp-events-plugin.com//7.2.3.1//EN
TZID:Australia/Darwin
X-WR-TIMEZONE:Australia/Darwin
BEGIN:VEVENT
UID:71@topendhash.com
DTSTART;TZID=Australia/Darwin:20200523T160000
DTEND;TZID=Australia/Darwin:20200523T233000
DTSTAMP:20200519T102559Z
URL:https://topendhash.com/events/985-agpu/
SUMMARY:AGPU - RUN NUMBER 985 - CLICK ON THIS LINK FOR GOOGLE MAP
DESCRIPTION:AGPU\n\nBatchelor Holiday Park - Batchelor\n\nhttps://www.batch
 elorholidaypark.com.au/\n\nDetails:\nSaturday 23rd May | Run starts 1600h 
 | Circle to follow | Mash\nSunday 24th May | Recovery Run | Breakfast\nAll
  Hashers &amp\; Non Hashers Invited\nCost Non Regulars and Visitors $25\nW
 hat’s On Offer:\nActual Hashing!!!!!!!!! | Beer | Cider | Soft Drinks | 
 Snacks | Evening Meal\n**Breakfast | (Bring your own Tea/Coffee needs)\n\n
 &nbsp\;\n\n
END:VEVENT
BEGIN:VTIMEZONE
TZID:Australia/Darwin
X-LIC-LOCATION:Australia/Darwin
BEGIN:STANDARD
DTSTART:20190524T160000
TZOFFSETFROM:+0930
TZOFFSETTO:+0930
TZNAME:ACST
END:STANDARD
END:VTIMEZONE
END:VCALENDAR