BEGIN:VCALENDAR
VERSION:2.0
PRODID:-//wp-events-plugin.com//7.2.3.1//EN
TZID:Australia/Darwin
X-WR-TIMEZONE:Australia/Darwin
BEGIN:VEVENT
UID:288@topendhash.com
DTSTART;TZID=Australia/Darwin:20230427T180000
DTEND;TZID=Australia/Darwin:20230427T234500
DTSTAMP:20230426T093532Z
URL:https://topendhash.com/events/1148-durex-and-play-school-darwin-middle
 -school/
SUMMARY:1148 - DUREX AND PLAY SCHOOL - TOP OF HILL NEAR DARWIN HIGH SCHOOL\
 , ATKINS DRIVE TOWARDS CONACHER STREET\, THE GARDENS - CLICK ON THIS LINK 
 FOR MISDIRECTIONS AND COVID-19 RESTRICTIONS
DESCRIPTION:Vacant Block Atkins Drive - Fannie Bay (Opposite Darwin Middle 
 School)\n\nTOP OF HILL NEAR DARWIN HIGH SCHOOL\nATKINS DRIVE - TOWARDS CON
 ACHER STREET\nTHE GARDENS\n\n\n\n\n\n&nbsp\;\n\n&nbsp\;\n\n\n\nCOVID-19 RE
 STRICTIONS\n\nClick on the below link for COVID-19 Restrictions\n\nhttps:/
 /topendhash.com/covid-19-restrictions/\n\n&nbsp\;
END:VEVENT
BEGIN:VTIMEZONE
TZID:Australia/Darwin
X-LIC-LOCATION:Australia/Darwin
BEGIN:STANDARD
DTSTART:20220427T180000
TZOFFSETFROM:+0930
TZOFFSETTO:+0930
TZNAME:ACST
END:STANDARD
END:VTIMEZONE
END:VCALENDAR