BEGIN:VCALENDAR
VERSION:2.0
PRODID:-//wp-events-plugin.com//7.2.3.1//EN
TZID:Australia/Darwin
X-WR-TIMEZONE:Australia/Darwin
BEGIN:VEVENT
UID:284@topendhash.com
DTSTART;TZID=Australia/Darwin:20230422T160000
DTEND;TZID=Australia/Darwin:20230422T214500
DTSTAMP:20230207T115627Z
URL:https://topendhash.com/events/1146-agpu-coomalie-creek-christian-camp-
 coomalie-click-on-this-link-for-misdirections-and-covid-19-restrictions/
SUMMARY:1146 - AGPU - COOMALIE CREEK CHRISTIAN CAMP - COOMALIE - CLICK ON T
 HIS LINK FOR MISDIRECTIONS AND COVID-19 RESTRICTIONS
DESCRIPTION:Coomalie Creek Christian Camp\, Coomalie\n\n\n\n\n\n\n\nCOVID-1
 9 RESTRICTIONS\n\nClick on the below link for COVID-19 Restrictions\n\nhtt
 ps://topendhash.com/covid-19-restrictions/\n\n&nbsp\;\n\n
END:VEVENT
BEGIN:VTIMEZONE
TZID:Australia/Darwin
X-LIC-LOCATION:Australia/Darwin
BEGIN:STANDARD
DTSTART:20220422T160000
TZOFFSETFROM:+0930
TZOFFSETTO:+0930
TZNAME:ACST
END:STANDARD
END:VTIMEZONE
END:VCALENDAR