BEGIN:VCALENDAR
VERSION:2.0
PRODID:-//wp-events-plugin.com//7.2.3.1//EN
TZID:Australia/Darwin
X-WR-TIMEZONE:Australia/Darwin
BEGIN:VEVENT
UID:283@topendhash.com
DTSTART;TZID=Australia/Darwin:20230420T180000
DTEND;TZID=Australia/Darwin:20230420T234500
DTSTAMP:20230417T111754Z
URL:https://topendhash.com/events/1145-need-a-hare-tba-click-on-this-link-
 for-misdirections-and-covid-19-restrictions/
SUMMARY:1145 - Lady Di 14 Redshank Court\, Bakewel - CLICK ON THIS LINK FOR
  MISDIRECTIONS AND COVID-19 RESTRICTIONS - THIS IS A NO DOG RUN
DESCRIPTION:14 Redshank Court\, Bakewell\n\nPLEASE NOTE\nTHIS IS STRICTLY A
  NO DOG RUN\n\nClick the top left hand side of the map to enlarge\n\n\n\nC
 OVID-19 RESTRICTIONS\n\nClick on the below link for COVID-19 Restrictions\
 n\nhttps://topendhash.com/covid-19-restrictions/\n\n&nbsp\;\n\n
END:VEVENT
BEGIN:VTIMEZONE
TZID:Australia/Darwin
X-LIC-LOCATION:Australia/Darwin
BEGIN:STANDARD
DTSTART:20220420T180000
TZOFFSETFROM:+0930
TZOFFSETTO:+0930
TZNAME:ACST
END:STANDARD
END:VTIMEZONE
END:VCALENDAR