BEGIN:VCALENDAR
VERSION:2.0
PRODID:-//wp-events-plugin.com//7.2.3.1//EN
TZID:Australia/Darwin
X-WR-TIMEZONE:Australia/Darwin
BEGIN:VEVENT
UID:281@topendhash.com
DTSTART;TZID=Australia/Darwin:20230406T180000
DTEND;TZID=Australia/Darwin:20230406T234500
DTSTAMP:20230405T122308Z
URL:https://topendhash.com/events/1143-kharma-sutra-and-happy-hooker-tba-c
 lick-on-this-link-for-misdirections-and-covid-19-restrictions/
SUMMARY:1143 - SKIDDY AND MR BD - 31 TAMBLING TERRACE\, WANGURI - CLICK ON 
 THIS LINK FOR MISDIRECTIONS AND COVID-19 RESTRICTIONS
DESCRIPTION:\n\n31 Tambling Terrace\nhttps://maps.app.goo.gl/tN8AnbBLf9AkYe
 7R6\n\n\n\n\nCOVID-19 RESTRICTIONS\n\nClick on the below link for COVID-19
  Restrictions\n\nhttps://topendhash.com/covid-19-restrictions/\n\n&nbsp\;\
 n\n
END:VEVENT
BEGIN:VTIMEZONE
TZID:Australia/Darwin
X-LIC-LOCATION:Australia/Darwin
BEGIN:STANDARD
DTSTART:20220406T180000
TZOFFSETFROM:+0930
TZOFFSETTO:+0930
TZNAME:ACST
END:STANDARD
END:VTIMEZONE
END:VCALENDAR