BEGIN:VCALENDAR
VERSION:2.0
PRODID:-//wp-events-plugin.com//7.2.3.1//EN
TZID:Australia/Darwin
X-WR-TIMEZONE:Australia/Darwin
BEGIN:VEVENT
UID:280@topendhash.com
DTSTART;TZID=Australia/Darwin:20230330T180000
DTEND;TZID=Australia/Darwin:20230330T234500
DTSTAMP:20230207T115849Z
URL:https://topendhash.com/events/1142-need-a-hare-tba-click-on-this-link-
 for-misdirections-and-covid-19-restrictions/
SUMMARY:1142 - KHARMA SUTRA AND HAPPY HOOKER - 319 THOMAS ROAD\, HUMPTY DOO
  - CLICK ON THIS LINK FOR MISDIRECTIONS AND COVID-19 RESTRICTIONS
DESCRIPTION:THIS WEEKS RUN IS A NO DOG RUN\n\n319 Thomas Road\nHumpty Doo\n
 \n\n\n\n\nCOVID-19 RESTRICTIONS\n\nClick on the below link for COVID-19 Re
 strictions\n\nhttps://topendhash.com/covid-19-restrictions/\n\n&nbsp\;\n\n
END:VEVENT
BEGIN:VTIMEZONE
TZID:Australia/Darwin
X-LIC-LOCATION:Australia/Darwin
BEGIN:STANDARD
DTSTART:20220330T180000
TZOFFSETFROM:+0930
TZOFFSETTO:+0930
TZNAME:ACST
END:STANDARD
END:VTIMEZONE
END:VCALENDAR