BEGIN:VCALENDAR
VERSION:2.0
PRODID:-//wp-events-plugin.com//7.2.3.1//EN
TZID:Australia/Darwin
X-WR-TIMEZONE:Australia/Darwin
BEGIN:VEVENT
UID:279@topendhash.com
DTSTART;TZID=Australia/Darwin:20230323T180000
DTEND;TZID=Australia/Darwin:20230323T234500
DTSTAMP:20230319T000654Z
URL:https://topendhash.com/events/1141-need-a-hare-tba-click-on-this-link-
 for-misdirections-and-covid-19-restrictions/
SUMMARY:1141 - LOUIS AND LOOSE LIPS - 10 ALDRIDGE PLACE\, MILLNER - CLICK O
 N THIS LINK FOR MISDIRECTIONS AND COVID-19 RESTRICTIONS
DESCRIPTION:10 Aldridge Place\, Millner\n\n\n\n\n\n\nCOVID-19 RESTRICTIONS\
 n\nClick on the below link for COVID-19 Restrictions\n\nhttps://topendhash
 .com/covid-19-restrictions/\n\n&nbsp\;\n\n
END:VEVENT
BEGIN:VTIMEZONE
TZID:Australia/Darwin
X-LIC-LOCATION:Australia/Darwin
BEGIN:STANDARD
DTSTART:20220323T180000
TZOFFSETFROM:+0930
TZOFFSETTO:+0930
TZNAME:ACST
END:STANDARD
END:VTIMEZONE
END:VCALENDAR