BEGIN:VCALENDAR
VERSION:2.0
PRODID:-//wp-events-plugin.com//7.2.3.1//EN
TZID:Australia/Darwin
X-WR-TIMEZONE:Australia/Darwin
BEGIN:VEVENT
UID:278@topendhash.com
DTSTART;TZID=Australia/Darwin:20230316T180000
DTEND;TZID=Australia/Darwin:20230316T234500
DTSTAMP:20230308T064541Z
URL:https://topendhash.com/events/1140-need-a-hare-tba-click-on-this-link-
 for-misdirections-and-covid-19-restrictions/
SUMMARY:1140 - LITTLE JOHNY- 35 McINNIS CIRCUIT DRIVER - CLICK ON THIS LINK
  FOR MISDIRECTIONS AND COVID-19 RESTRICTIONS
DESCRIPTION:35 McINNIS CIRCUIT\nDRIVER\n\n\n\n\n\n\n\nCOVID-19 RESTRICTIONS
 \n\nClick on the below link for COVID-19 Restrictions\n\nhttps://topendhas
 h.com/covid-19-restrictions/\n\n&nbsp\;\n\n
END:VEVENT
BEGIN:VTIMEZONE
TZID:Australia/Darwin
X-LIC-LOCATION:Australia/Darwin
BEGIN:STANDARD
DTSTART:20220316T180000
TZOFFSETFROM:+0930
TZOFFSETTO:+0930
TZNAME:ACST
END:STANDARD
END:VTIMEZONE
END:VCALENDAR