BEGIN:VCALENDAR
VERSION:2.0
PRODID:-//wp-events-plugin.com//7.2.3.1//EN
TZID:Australia/Darwin
X-WR-TIMEZONE:Australia/Darwin
BEGIN:VEVENT
UID:277@topendhash.com
DTSTART;TZID=Australia/Darwin:20230309T180000
DTEND;TZID=Australia/Darwin:20230309T234500
DTSTAMP:20230226T024029Z
URL:https://topendhash.com/events/1139-karoke-tba-click-on-this-link-for-m
 isdirections-and-covid-19-restrictions/
SUMMARY:1139 - KAROKE - 18 SANDALWOOD ST\, NIGHTCLIFF - CLICK ON THIS LINK 
 FOR MISDIRECTIONS AND COVID-19 RESTRICTIONS
DESCRIPTION:18 SANDALWOOD ST\, NIGHTCLIFF\n\n\n\n\n\n\nCOVID-19 RESTRICTION
 S\n\nClick on the below link for COVID-19 Restrictions\n\nhttps://topendha
 sh.com/covid-19-restrictions/\n\n&nbsp\;\n\n
END:VEVENT
BEGIN:VTIMEZONE
TZID:Australia/Darwin
X-LIC-LOCATION:Australia/Darwin
BEGIN:STANDARD
DTSTART:20220309T180000
TZOFFSETFROM:+0930
TZOFFSETTO:+0930
TZNAME:ACST
END:STANDARD
END:VTIMEZONE
END:VCALENDAR