BEGIN:VCALENDAR
VERSION:2.0
PRODID:-//wp-events-plugin.com//7.2.3.1//EN
TZID:Australia/Darwin
X-WR-TIMEZONE:Australia/Darwin
BEGIN:VEVENT
UID:272@topendhash.com
DTSTART;TZID=Australia/Darwin:20230209T180000
DTEND;TZID=Australia/Darwin:20230209T234500
DTSTAMP:20230207T114935Z
URL:https://topendhash.com/events/1135-need-as-hare-click-on-this-link-for
 -misdirections-and-covid-19-restrictions/
SUMMARY:1135 - DUREX AND PLAYSCHOOL - VACANT BLOCK NEXT TO 12 SALONIKA AVEN
 UE\, PARAP - CLICK ON THIS LINK FOR MISDIRECTIONS AND COVID-19 RESTRICTION
 S
DESCRIPTION:Vacant Block Next To 12 Salonika Avenue\nParap\n\n\n\n\n\n\n\nC
 OVID-19 RESTRICTIONS\n\nClick on the below link for COVID-19 Restrictions\
 n\nhttps://topendhash.com/covid-19-restrictions/\n\n&nbsp\;\n\n
END:VEVENT
BEGIN:VTIMEZONE
TZID:Australia/Darwin
X-LIC-LOCATION:Australia/Darwin
BEGIN:STANDARD
DTSTART:20220209T180000
TZOFFSETFROM:+0930
TZOFFSETTO:+0930
TZNAME:ACST
END:STANDARD
END:VTIMEZONE
END:VCALENDAR