BEGIN:VCALENDAR
VERSION:2.0
PRODID:-//wp-events-plugin.com//7.2.3.1//EN
TZID:Australia/Darwin
X-WR-TIMEZONE:Australia/Darwin
BEGIN:VEVENT
UID:271@topendhash.com
DTSTART;TZID=Australia/Darwin:20230202T180000
DTEND;TZID=Australia/Darwin:20230202T234500
DTSTAMP:20230127T015808Z
URL:https://topendhash.com/events/1134-need-as-hare-click-on-this-link-for
 -misdirections-and-covid-19-restrictions/
SUMMARY:1134 BACKPAGE AND WHATHISNAME - COOLALINGA BUS EXCHANGE\, GIRRAWEEN
  ROAD\, COOLALINGA -CLICK ON THIS LINK FOR MISDIRECTIONS AND COVID-19 REST
 RICTIONS
DESCRIPTION:Coolalinga Bus Interchange\, Girraween Rd\, Coolalinga\n\n\n\n\
 n\n\n\n\n\nCOVID-19 RESTRICTIONS\n\nClick on the below link for COVID-19 R
 estrictions\n\nhttps://topendhash.com/covid-19-restrictions/\n\n&nbsp\;\n\
 n
END:VEVENT
BEGIN:VTIMEZONE
TZID:Australia/Darwin
X-LIC-LOCATION:Australia/Darwin
BEGIN:STANDARD
DTSTART:20220202T180000
TZOFFSETFROM:+0930
TZOFFSETTO:+0930
TZNAME:ACST
END:STANDARD
END:VTIMEZONE
END:VCALENDAR