BEGIN:VCALENDAR
VERSION:2.0
PRODID:-//wp-events-plugin.com//7.2.3.1//EN
TZID:Australia/Darwin
X-WR-TIMEZONE:Australia/Darwin
BEGIN:VEVENT
UID:270@topendhash.com
DTSTART;TZID=Australia/Darwin:20230126T180000
DTEND;TZID=Australia/Darwin:20230126T234500
DTSTAMP:20221228T000805Z
URL:https://topendhash.com/events/1133-bot-bot-and-shit-happens-click-on-t
 his-link-for-misdirections-and-covid-19-restrictions/
SUMMARY:1133 - BOT BOT AND SHIT HAPPENS - 20 CROWN COURT\, DURACK - CLICK O
 N THIS LINK FOR MISDIRECTIONS AND COVID-19 RESTRICTIONS
DESCRIPTION:20 Crown Court\, Durack\n\n\n\nCOVID-19 RESTRICTIONS\n\nClick o
 n the below link for COVID-19 Restrictions\n\nhttps://topendhash.com/covid
 -19-restrictions/\n\n&nbsp\;\n\n
END:VEVENT
BEGIN:VTIMEZONE
TZID:Australia/Darwin
X-LIC-LOCATION:Australia/Darwin
BEGIN:STANDARD
DTSTART:20220126T180000
TZOFFSETFROM:+0930
TZOFFSETTO:+0930
TZNAME:ACST
END:STANDARD
END:VTIMEZONE
END:VCALENDAR