BEGIN:VCALENDAR
VERSION:2.0
PRODID:-//wp-events-plugin.com//7.2.3.1//EN
TZID:Australia/Darwin
X-WR-TIMEZONE:Australia/Darwin
BEGIN:VEVENT
UID:269@topendhash.com
DTSTART;TZID=Australia/Darwin:20230119T180000
DTEND;TZID=Australia/Darwin:20230119T234500
DTSTAMP:20221128T110031Z
URL:https://topendhash.com/events/1132-need-as-hare-click-on-this-link-for
 -misdirections-and-covid-19-restrictions/
SUMMARY:1132 -JUMPING JACK AND SLIP UP - EAST POINT RESERVE\, ROTUNDA NEAR 
 PEE WEE'S - CLICK ON THIS LINK FOR MISDIRECTIONS AND COVID-19 RESTRICTIONS
DESCRIPTION:\n\n\n\nCOVID-19 RESTRICTIONS\nClick on the below link for COVI
 D-19 Restrictions\n\nhttps://topendhash.com/covid-19-restrictions/\n\n&nbs
 p\;\n\n\n\n\nCOVID-19 RESTRICTIONS\n\nClick on the below link for COVID-19
  Restrictions\n\nhttps://topendhash.com/covid-19-restrictions/\n\n&nbsp\;\
 n\n
END:VEVENT
BEGIN:VTIMEZONE
TZID:Australia/Darwin
X-LIC-LOCATION:Australia/Darwin
BEGIN:STANDARD
DTSTART:20220119T180000
TZOFFSETFROM:+0930
TZOFFSETTO:+0930
TZNAME:ACST
END:STANDARD
END:VTIMEZONE
END:VCALENDAR