BEGIN:VCALENDAR
VERSION:2.0
PRODID:-//wp-events-plugin.com//7.2.3.1//EN
TZID:Australia/Darwin
X-WR-TIMEZONE:Australia/Darwin
BEGIN:VEVENT
UID:262@topendhash.com
DTSTART;TZID=Australia/Darwin:20221215T180000
DTEND;TZID=Australia/Darwin:20221215T234500
DTSTAMP:20221204T081121Z
URL:https://topendhash.com/events/1127-need-as-hare-click-on-this-link-for
 -misdirections-and-covid-19-restrictions/
SUMMARY:1127 - TEH3 CHRISTMAS PARTY - KILLER - 10 CARRINGTON STREET\, MILLN
 ER - CLICK ON THIS LINK FOR MISDIRECTIONS AND COVID-19 RESTRICTIONS
DESCRIPTION:10 Carrington Street Millner\n\n\n\n\n\n\nCOVID-19 RESTRICTIONS
 \n\nClick on the below link for COVID-19 Restrictions\n\nhttps://topendhas
 h.com/covid-19-restrictions/\n\n&nbsp\;
END:VEVENT
BEGIN:VTIMEZONE
TZID:Australia/Darwin
X-LIC-LOCATION:Australia/Darwin
BEGIN:STANDARD
DTSTART:20211215T180000
TZOFFSETFROM:+0930
TZOFFSETTO:+0930
TZNAME:ACST
END:STANDARD
END:VTIMEZONE
END:VCALENDAR