BEGIN:VCALENDAR
VERSION:2.0
PRODID:-//wp-events-plugin.com//7.2.3.1//EN
TZID:Australia/Darwin
X-WR-TIMEZONE:Australia/Darwin
BEGIN:VEVENT
UID:275@topendhash.com
DTSTART;TZID=Australia/Darwin:20221201T180000
DTEND;TZID=Australia/Darwin:20221201T233000
DTSTAMP:20221128T104604Z
URL:https://topendhash.com/events/1125-karoke-18-sandlewood-crescent-night
 cliff-click-on-this-link-for-misdirections/
SUMMARY:1125 - KAROKE - 18 SANDLEWOOD CRESCENT - NIGHTCLIFF - CLICK ON THIS
  LINK FOR MISDIRECTIONS AND COVID-19 RESTRICTIONS
DESCRIPTION:18 SANDLEWOOD CRESCENT\nNIGHTCLIFF \n\n\n\n\nCOVID-19 RESTRICTI
 ONS\n\nClick on the below link for COVID-19 Restrictions\n\nhttps://topend
 hash.com/covid-19-restrictions/\n\n&nbsp\;
END:VEVENT
BEGIN:VTIMEZONE
TZID:Australia/Darwin
X-LIC-LOCATION:Australia/Darwin
BEGIN:STANDARD
DTSTART:20211201T180000
TZOFFSETFROM:+0930
TZOFFSETTO:+0930
TZNAME:ACST
END:STANDARD
END:VTIMEZONE
END:VCALENDAR