BEGIN:VCALENDAR
VERSION:2.0
PRODID:-//wp-events-plugin.com//7.2.3.1//EN
TZID:Australia/Darwin
X-WR-TIMEZONE:Australia/Darwin
BEGIN:VEVENT
UID:258@topendhash.com
DTSTART;TZID=Australia/Darwin:20221117T180000
DTEND;TZID=Australia/Darwin:20221117T234500
DTSTAMP:20221030T092311Z
URL:https://topendhash.com/events/1123-need-as-hare-click-on-this-link-for
 -misdirections-and-covid-19-restrictions/
SUMMARY:1123 - SHIT HAPPENS AND BOT BOT - 20 CROWN COURT\, DURACK - NO DOG 
 RUN -  CLICK ON THIS LINK FOR MISDIRECTIONS AND COVID-19 RESTRICTIONS
DESCRIPTION:THIS IS A NO DOG RUN - I DO NOT HAVE ENOUGH ROOM IN MY YARD FOR
  ALL OF THE DOGS\n\n20 Crown Court\, Durack\n\n\n\n\n\nCOVID-19 RESTRICTIO
 NS\n\nClick on the below link for COVID-19 Restrictions\n\nhttps://topendh
 ash.com/covid-19-restrictions/\n\n&nbsp\;\n\n
END:VEVENT
BEGIN:VTIMEZONE
TZID:Australia/Darwin
X-LIC-LOCATION:Australia/Darwin
BEGIN:STANDARD
DTSTART:20211117T180000
TZOFFSETFROM:+0930
TZOFFSETTO:+0930
TZNAME:ACST
END:STANDARD
END:VTIMEZONE
END:VCALENDAR