BEGIN:VCALENDAR
VERSION:2.0
PRODID:-//wp-events-plugin.com//7.2.3.1//EN
TZID:Australia/Darwin
X-WR-TIMEZONE:Australia/Darwin
BEGIN:VEVENT
UID:256@topendhash.com
DTSTART;TZID=Australia/Darwin:20221103T180000
DTEND;TZID=Australia/Darwin:20221103T234500
DTSTAMP:20221030T093028Z
URL:https://topendhash.com/events/1121-need-as-hare-click-on-this-link-for
 -misdirections-and-covid-19-restrictions/
SUMMARY:1121 - HIV - THIS IS A PLATE RUN - KARU PARK\, TOTEM ROAD\, LUDMILL
 A - CLICK ON THIS LINK FOR MISDIRECTIONS AND COVID-19 RESTRICTIONS
DESCRIPTION:Karu Park\, Totem Rd\, Ludmilla\n\nThis is a "Bring a Plate" ru
 n\, so don't forget to bring some food\, but not too much\; we always seem
  to have way too much at these nights.\n\n\n\nCOVID-19 RESTRICTIONS\n\nCli
 ck on the below link for COVID-19 Restrictions\n\nhttps://topendhash.com/c
 ovid-19-restrictions/\n\n&nbsp\;
END:VEVENT
BEGIN:VTIMEZONE
TZID:Australia/Darwin
X-LIC-LOCATION:Australia/Darwin
BEGIN:STANDARD
DTSTART:20211103T180000
TZOFFSETFROM:+0930
TZOFFSETTO:+0930
TZNAME:ACST
END:STANDARD
END:VTIMEZONE
END:VCALENDAR