BEGIN:VCALENDAR
VERSION:2.0
PRODID:-//wp-events-plugin.com//7.2.3.1//EN
TZID:Australia/Darwin
X-WR-TIMEZONE:Australia/Darwin
BEGIN:VEVENT
UID:255@topendhash.com
DTSTART;TZID=Australia/Darwin:20221027T180000
DTEND;TZID=Australia/Darwin:20221027T234500
DTSTAMP:20230426T093437Z
URL:https://topendhash.com/events/1120-inspect-her-gadget-and-her-crew-tba
 -click-on-this-link-for-misdirections-and-covid-19-restrictions/
SUMMARY:1120 - PLAYSCHOOL AND DUREX- TOP OF HILL NEAR DARWIN HIGH SCHOOL\, 
 ATKINS DRIVE TOWARDS CONACHER STREET\, THE GARDENS - CLICK ON THIS LINK FO
 R MISDIRECTIONS AND COVID-19 RESTRICTIONS
DESCRIPTION:Vacant Block Atkins Drive - Fannie Bay (Opposite Darwin Middle 
 School)\n\nTOP OF HILL NEAR DARWIN HIGH SCHOOL\nATKINS DRIVE - TOWARDS CON
 ACHER STREET\nTHE GARDENS\n\n\n\n\n\n&nbsp\;\n\n&nbsp\;\n\nCOVID-19 RESTRI
 CTIONS\n\nClick on the below link for COVID-19 Restrictions\n\nhttps://top
 endhash.com/covid-19-restrictions/\n\n&nbsp\;
END:VEVENT
BEGIN:VTIMEZONE
TZID:Australia/Darwin
X-LIC-LOCATION:Australia/Darwin
BEGIN:STANDARD
DTSTART:20211027T180000
TZOFFSETFROM:+0930
TZOFFSETTO:+0930
TZNAME:ACST
END:STANDARD
END:VTIMEZONE
END:VCALENDAR