BEGIN:VCALENDAR
VERSION:2.0
PRODID:-//wp-events-plugin.com//7.2.3.1//EN
TZID:Australia/Darwin
X-WR-TIMEZONE:Australia/Darwin
BEGIN:VEVENT
UID:254@topendhash.com
DTSTART;TZID=Australia/Darwin:20221020T180000
DTEND;TZID=Australia/Darwin:20221020T234500
DTSTAMP:20221015T062912Z
URL:https://topendhash.com/events/1119-need-as-hare-click-on-this-link-for
 -misdirections-and-covid-19-restrictions/
SUMMARY:1119 - CRUSTY - DINAH BEACH OVAL\, CORNER OF GUY STREET AND MEIGS C
 RESCENT\, STUART PARK - CLICK ON THIS LINK FOR MISDIRECTIONS AND COVID-19 
 RESTRICTIONS
DESCRIPTION:Dinah Beach Oval\, Corner of Guy Street and Meigs Crescent\, St
 uart Park\n\n\n\n&nbsp\;\n\n&nbsp\;\n\nCOVID-19 RESTRICTIONS\n\nClick on t
 he below link for COVID-19 Restrictions\n\nhttps://topendhash.com/covid-19
 -restrictions/\n\n&nbsp\;\n\n&nbsp\;
END:VEVENT
BEGIN:VTIMEZONE
TZID:Australia/Darwin
X-LIC-LOCATION:Australia/Darwin
BEGIN:STANDARD
DTSTART:20211020T180000
TZOFFSETFROM:+0930
TZOFFSETTO:+0930
TZNAME:ACST
END:STANDARD
END:VTIMEZONE
END:VCALENDAR