BEGIN:VCALENDAR
VERSION:2.0
PRODID:-//wp-events-plugin.com//7.2.3.1//EN
TZID:Australia/Darwin
X-WR-TIMEZONE:Australia/Darwin
BEGIN:VEVENT
UID:249@topendhash.com
DTSTART;TZID=Australia/Darwin:20220915T180000
DTEND;TZID=Australia/Darwin:20220915T234500
DTSTAMP:20220912T091216Z
URL:https://topendhash.com/events/1114-need-as-hare-click-on-this-link-for
 -misdirections-and-covid-19-restrictions/
SUMMARY:1114 JUGS AND HAZBEAN - FONG PARK\, FONG ST. WANGURI - CLICK ON THI
 S LINK FOR MISDIRECTIONS AND COVID-19 RESTRICTIONS
DESCRIPTION:FONG PARK\, FONG ST. WANGURI\n\n\n\n\n\n\n\nCOVID-19 RESTRICTIO
 NS\n\nClick on the below link for COVID-19 Restrictions\n\nhttps://topendh
 ash.com/covid-19-restrictions/\n\n&nbsp\;\n\n
END:VEVENT
BEGIN:VTIMEZONE
TZID:Australia/Darwin
X-LIC-LOCATION:Australia/Darwin
BEGIN:STANDARD
DTSTART:20210915T180000
TZOFFSETFROM:+0930
TZOFFSETTO:+0930
TZNAME:ACST
END:STANDARD
END:VTIMEZONE
END:VCALENDAR