BEGIN:VCALENDAR
VERSION:2.0
PRODID:-//wp-events-plugin.com//7.2.3.1//EN
TZID:Australia/Darwin
X-WR-TIMEZONE:Australia/Darwin
BEGIN:VEVENT
UID:246@topendhash.com
DTSTART;TZID=Australia/Darwin:20220825T180000
DTEND;TZID=Australia/Darwin:20220825T234500
DTSTAMP:20220805T231844Z
URL:https://topendhash.com/events/1111-mr-balldangles-and-skiddy-tba-click
 -on-this-link-for-misdirections-and-covid-19-restrictions/
SUMMARY:1111 - COMMITTEE RUN - EAST POINT ROTUNDA (NEXT TO PEE WEES ON THE 
 POINT) - CLICK ON THIS LINK FOR MISDIRECTIONS AND COVID-19 RESTRICTIONS
DESCRIPTION:\n\nCOVID-19 RESTRICTIONS\n\n\n\nClick on the below link for CO
 VID-19 Restrictions\n\nhttps://topendhash.com/covid-19-restrictions/\n\n&n
 bsp\;\n\n
END:VEVENT
BEGIN:VTIMEZONE
TZID:Australia/Darwin
X-LIC-LOCATION:Australia/Darwin
BEGIN:STANDARD
DTSTART:20210825T180000
TZOFFSETFROM:+0930
TZOFFSETTO:+0930
TZNAME:ACST
END:STANDARD
END:VTIMEZONE
END:VCALENDAR