BEGIN:VCALENDAR
VERSION:2.0
PRODID:-//wp-events-plugin.com//7.2.3.1//EN
TZID:Australia/Darwin
X-WR-TIMEZONE:Australia/Darwin
BEGIN:VEVENT
UID:245@topendhash.com
DTSTART;TZID=Australia/Darwin:20220818T180000
DTEND;TZID=Australia/Darwin:20220818T234500
DTSTAMP:20220805T234631Z
URL:https://topendhash.com/events/1110-need-as-hare-click-on-this-link-for
 -misdirections-and-covid-19-restrictions/
SUMMARY:1110 - JUMPING JACK AND SLIP UP - CLICK HERE FOR IMPORTANT INFO RE 
 RUN - RUN IS AT MANDORAH JETTY  - CLICK ON THIS LINK FOR MISDIRECTIONS AND
  COVID-19 RESTRICTIONS
DESCRIPTION:MANDORAH JETTY\n\nNOTE: \n\nYOU NEED TO BE AT THE FERRY TERMINA
 L TO CATCH THE 1800h FERRY\nPARKING IS DIFFICULT SO PLAN TO ARRIVE AT THE 
 TERMINAL BY ABOUT 1730h\nTHE FERRY DOES NOT WAIT\n\nPAYMENT\nTHE COST OF T
 HE FERRY HAS BEEN SUBSIDISED\nCOST IS $20.00 (COVERS RETURN JOURNEY ON THE
  FERRY PLUS YOUR RUN) - YOU NEED TO PAY HASH CASH BEFORE 11 AUG\nIF YOU DO
 NT YOU ARE STILL WELCOME BUT YOU WILL HAVE TO PAY THE FULL AMOUNT FOR THE 
 FERRY\n\n\nTHIS IS WHERE YOU NEED TO BE IF YOU ARE CATCHING THE FERRY\n\n\
 n\n\n\nIF YOU DRIVE AROUND THIS IS WHERE YOU NEED TO BE (BY ABOUT 1830h)\n
 \n\n\n\n\n\nCOVID-19 RESTRICTIONS\n\nClick on the below link for COVID-19 
 Restrictions\n\nhttps://topendhash.com/covid-19-restrictions/\n\n&nbsp\;\n
 \n
END:VEVENT
BEGIN:VTIMEZONE
TZID:Australia/Darwin
X-LIC-LOCATION:Australia/Darwin
BEGIN:STANDARD
DTSTART:20210818T180000
TZOFFSETFROM:+0930
TZOFFSETTO:+0930
TZNAME:ACST
END:STANDARD
END:VTIMEZONE
END:VCALENDAR