BEGIN:VCALENDAR
VERSION:2.0
PRODID:-//wp-events-plugin.com//7.2.3.1//EN
TZID:Australia/Darwin
X-WR-TIMEZONE:Australia/Darwin
BEGIN:VEVENT
UID:244@topendhash.com
DTSTART;TZID=Australia/Darwin:20220811T180000
DTEND;TZID=Australia/Darwin:20220811T234500
DTSTAMP:20220805T231414Z
URL:https://topendhash.com/events/1109-need-as-hare-click-on-this-link-for
 -misdirections-and-covid-19-restrictions/
SUMMARY:1109 - KILLER AND FLACID - 10 CARRINGTON STREET MILLNER - CLICK ON 
 THIS LINK FOR MISDIRECTIONS AND COVID-19 RESTRICTIONS
DESCRIPTION:10 CARRINGTON ST\, MILLNER\n\n\n\n\n\nCOVID-19 RESTRICTIONS\n\n
 Click on the below link for COVID-19 Restrictions\n\nhttps://topendhash.co
 m/covid-19-restrictions/\n\n&nbsp\;\n\n
END:VEVENT
BEGIN:VTIMEZONE
TZID:Australia/Darwin
X-LIC-LOCATION:Australia/Darwin
BEGIN:STANDARD
DTSTART:20210811T180000
TZOFFSETFROM:+0930
TZOFFSETTO:+0930
TZNAME:ACST
END:STANDARD
END:VTIMEZONE
END:VCALENDAR