BEGIN:VCALENDAR
VERSION:2.0
PRODID:-//wp-events-plugin.com//7.2.3.1//EN
TZID:Australia/Darwin
X-WR-TIMEZONE:Australia/Darwin
BEGIN:VEVENT
UID:243@topendhash.com
DTSTART;TZID=Australia/Darwin:20220804T180000
DTEND;TZID=Australia/Darwin:20220804T234500
DTSTAMP:20220802T092435Z
URL:https://topendhash.com/events/1108-need-as-hare-click-on-this-link-for
 -misdirections-and-covid-19-restrictions/
SUMMARY:1108 - BACKPAGE AND NOVAK - CAR PARK ADJACENT TO ANZAC MEMORIAL (EA
 STERN END OF DARWIN CBD ESPLANADE) - CLICK ON THIS LINK FOR MISDIRECTIONS 
 AND COVID-19 RESTRICTIONS
DESCRIPTION:Car park adjacent to ANZAC Memorial (Eastern end of Darwin CBD 
 Esplanade)  \n\n\n\n\n\n\n\n\nCOVID-19 RESTRICTIONS\n\nClick on the below 
 link for COVID-19 Restrictions\n\nhttps://topendhash.com/covid-19-restrict
 ions/\n\n&nbsp\;\n\n
END:VEVENT
BEGIN:VTIMEZONE
TZID:Australia/Darwin
X-LIC-LOCATION:Australia/Darwin
BEGIN:STANDARD
DTSTART:20210804T180000
TZOFFSETFROM:+0930
TZOFFSETTO:+0930
TZNAME:ACST
END:STANDARD
END:VTIMEZONE
END:VCALENDAR