BEGIN:VCALENDAR
VERSION:2.0
PRODID:-//wp-events-plugin.com//7.2.3.1//EN
TZID:Australia/Darwin
X-WR-TIMEZONE:Australia/Darwin
BEGIN:VEVENT
UID:241@topendhash.com
DTSTART;TZID=Australia/Darwin:20220721T180000
DTEND;TZID=Australia/Darwin:20220721T234500
DTSTAMP:20220715T235856Z
URL:https://topendhash.com/events/1106-durex-and-playschool-10th-wedding-a
 nniversary-run-click-on-this-link-for-misdirections-and-covid-19-restricti
 ons/
SUMMARY:1106 - DUREX AND PLAYSCHOOL (10th WEDDING ANNIVERSARY RUN) - VACANT
  BLOCK\, ATKINS DRIVE\, FANNIE BAY - CLICK ON THIS LINK FOR MISDIRECTIONS 
 AND COVID-19 RESTRICTIONS
DESCRIPTION:Vacant Block Atkins Drive - Fannie Bay (Opposite Darwin Middle 
 School)\n\n\n\n\n\n\n\n\n\n\nCOVID-19 RESTRICTIONS\n\nClick on the below l
 ink for COVID-19 Restrictions\n\nhttps://topendhash.com/covid-19-restricti
 ons/\n\n&nbsp\;\n\n
END:VEVENT
BEGIN:VTIMEZONE
TZID:Australia/Darwin
X-LIC-LOCATION:Australia/Darwin
BEGIN:STANDARD
DTSTART:20210721T180000
TZOFFSETFROM:+0930
TZOFFSETTO:+0930
TZNAME:ACST
END:STANDARD
END:VTIMEZONE
END:VCALENDAR