BEGIN:VCALENDAR
VERSION:2.0
PRODID:-//wp-events-plugin.com//7.2.3.1//EN
TZID:Australia/Darwin
X-WR-TIMEZONE:Australia/Darwin
BEGIN:VEVENT
UID:240@topendhash.com
DTSTART;TZID=Australia/Darwin:20220714T180000
DTEND;TZID=Australia/Darwin:20220714T234500
DTSTAMP:20220710T074306Z
URL:https://topendhash.com/events/1105-need-as-hare-click-on-this-link-for
 -misdirections-and-covid-19-restrictions/
SUMMARY:1105 - BOT BOT AND STONED - Intersection of Coffey and Bree Street 
 - Wishart Business Precinct (near Durack)  - CLICK ON THIS LINK FOR MISDIR
 ECTIONS AND COVID-19 RESTRICTIONS - PS Bring a Bowl.  A plate will be usel
 ess
DESCRIPTION:Intersection of Coffey and Bree Street - Wishart Business Preci
 nct (near Durack)\n\nBring a Bowl - A plate will be useless\n\n﻿\n\n\n\n
 \n\n\n\n\n\nCOVID-19 RESTRICTIONS\n\nClick on the below link for COVID-19 
 Restrictions\n\nhttps://topendhash.com/covid-19-restrictions/\n\n&nbsp\;\n
 \n
END:VEVENT
BEGIN:VTIMEZONE
TZID:Australia/Darwin
X-LIC-LOCATION:Australia/Darwin
BEGIN:STANDARD
DTSTART:20210714T180000
TZOFFSETFROM:+0930
TZOFFSETTO:+0930
TZNAME:ACST
END:STANDARD
END:VTIMEZONE
END:VCALENDAR