BEGIN:VCALENDAR
VERSION:2.0
PRODID:-//wp-events-plugin.com//7.2.3.1//EN
TZID:Australia/Darwin
X-WR-TIMEZONE:Australia/Darwin
BEGIN:VEVENT
UID:233@topendhash.com
DTSTART;TZID=Australia/Darwin:20220526T180000
DTEND;TZID=Australia/Darwin:20220526T234500
DTSTAMP:20220523T002930Z
URL:https://topendhash.com/events/1098-need-as-hare-click-on-this-link-for
 -misdirections-and-covid-19-restrictions/
SUMMARY:1098 - KRUSTY AND WETSPOT - DINAH BEACH OVAL\, CORNER OF GUY STREET
  AND MEIGS CRESCENT\, STUART PARK - CLICK ON THIS LINK FOR MISDIRECTIONS A
 ND COVID-19 RESTRICTIONS
DESCRIPTION:COVID-19 RESTRICTIONS\n\nClick on the below link for COVID-19 R
 estrictions\n\nhttps://topendhash.com/covid-19-restrictions/\n\n&nbsp\;\n\
 nDinah Beach Oval\, Corner of Guy Street and Meigs Crescent\, Stuart Park\
 n\n
END:VEVENT
BEGIN:VTIMEZONE
TZID:Australia/Darwin
X-LIC-LOCATION:Australia/Darwin
BEGIN:STANDARD
DTSTART:20210526T180000
TZOFFSETFROM:+0930
TZOFFSETTO:+0930
TZNAME:ACST
END:STANDARD
END:VTIMEZONE
END:VCALENDAR