BEGIN:VCALENDAR
VERSION:2.0
PRODID:-//wp-events-plugin.com//7.2.3.1//EN
TZID:Australia/Darwin
X-WR-TIMEZONE:Australia/Darwin
BEGIN:VEVENT
UID:234@topendhash.com
DTSTART;TZID=Australia/Darwin:20220602T180000
DTEND;TZID=Australia/Darwin:20220602T234500
DTSTAMP:20220530T083532Z
URL:https://topendhash.com/events/1098-kama-sutra-and-happy-hooker-tba-cli
 ck-on-this-link-for-misdirections-and-covid-19-restrictions/
SUMMARY:1099 - KAMA SUTRA AND HAPPY HOOKER - 319 THOMAS STREET\, HUMPTY DOO
  - THIS IS A NO DOG RUN - CLICK ON THIS LINK FOR MISDIRECTIONS AND COVID-1
 9 RESTRICTIONS
DESCRIPTION:COVID-19 RESTRICTIONS\n\nClick on the below link for COVID-19 R
 estrictions\n\nhttps://topendhash.com/covid-19-restrictions/\n\n&nbsp\;\n\
 nTHIS IS A NO DOG RUN\n\nPLEASE LEAVE YOUR DOGS AT HOME\n\n319 Thomas Stre
 et Humpty Doo\n\n\n\n\nPLEASE LEAVE YOUR DOGS AT HOME\n\n\n
END:VEVENT
BEGIN:VTIMEZONE
TZID:Australia/Darwin
X-LIC-LOCATION:Australia/Darwin
BEGIN:STANDARD
DTSTART:20210602T180000
TZOFFSETFROM:+0930
TZOFFSETTO:+0930
TZNAME:ACST
END:STANDARD
END:VTIMEZONE
END:VCALENDAR