BEGIN:VCALENDAR
VERSION:2.0
PRODID:-//wp-events-plugin.com//7.2.3.1//EN
TZID:Australia/Darwin
X-WR-TIMEZONE:Australia/Darwin
BEGIN:VEVENT
UID:227@topendhash.com
DTSTART;TZID=Australia/Darwin:20220501T090000
DTEND;TZID=Australia/Darwin:20220501T100000
DTSTAMP:20220410T230645Z
URL:https://topendhash.com/events/1094/
SUMMARY:1094 - AGPU RECOVERY RUN Coomalie Creek Christian Camp\, Coomalie -
  CLICK ON THIS LINK FOR MISDIRECTIONS AND COVID-19 RESTRICTIONS
DESCRIPTION:COVID-19 RESTRICTIONS\n\nClick on the below link for COVID-19 R
 estrictions\n\nhttps://topendhash.com/covid-19-restrictions/\n\n&nbsp\;\n\
 nCoomalie Creek Christian Camp\, Coomalie\n\n\n\n\n
END:VEVENT
BEGIN:VTIMEZONE
TZID:Australia/Darwin
X-LIC-LOCATION:Australia/Darwin
BEGIN:STANDARD
DTSTART:20210501T090000
TZOFFSETFROM:+0930
TZOFFSETTO:+0930
TZNAME:ACST
END:STANDARD
END:VTIMEZONE
END:VCALENDAR