BEGIN:VCALENDAR
VERSION:2.0
PRODID:-//wp-events-plugin.com//7.2.3.1//EN
TZID:Australia/Darwin
X-WR-TIMEZONE:Australia/Darwin
BEGIN:VEVENT
UID:225@topendhash.com
DTSTART;TZID=Australia/Darwin:20220421T180000
DTEND;TZID=Australia/Darwin:20220421T234500
DTSTAMP:20220130T103743Z
URL:https://topendhash.com/events/1091/
SUMMARY:1091 - POUNDA - JULIET SHIELDS PARK\, DELANEY ST\, MUIRHEAD - CLICK
  ON THIS LINK FOR MISDIRECTIONS AND COVID-19 RESTRICTIONS
DESCRIPTION:COVID-19 RESTRICTIONS\n\nClick on the below link for COVID-19 R
 estrictions\n\nhttps://topendhash.com/covid-19-restrictions/\n\n&nbsp\;\n\
 nJULIET SHIELDS PARK\, DELANEY ST\, MUIRHEAD\n
END:VEVENT
BEGIN:VTIMEZONE
TZID:Australia/Darwin
X-LIC-LOCATION:Australia/Darwin
BEGIN:STANDARD
DTSTART:20210421T180000
TZOFFSETFROM:+0930
TZOFFSETTO:+0930
TZNAME:ACST
END:STANDARD
END:VTIMEZONE
END:VCALENDAR