BEGIN:VCALENDAR
VERSION:2.0
PRODID:-//wp-events-plugin.com//7.2.3.1//EN
TZID:Australia/Darwin
X-WR-TIMEZONE:Australia/Darwin
BEGIN:VEVENT
UID:224@topendhash.com
DTSTART;TZID=Australia/Darwin:20220414T180000
DTEND;TZID=Australia/Darwin:20220414T234500
DTSTAMP:20220410T230313Z
URL:https://topendhash.com/events/1090/
SUMMARY:1090 - INSPECT HER GADGET AND THE REST OF THE GADGETS - THIS IS A N
 O DOG RUN - 30 ROSELLA CRES\, WULAGI - CLICK ON LINK FOR MISDIRECTIONS AND
  COVID-19 RESTRICTIONS
DESCRIPTION:THIS IS A NO DOG RUN\n\nCOVID-19 RESTRICTIONS\n\nClick on the b
 elow link for COVID-19 Restrictions\n\nhttps://topendhash.com/covid-19-res
 trictions/\n\n&nbsp\;\n\n30 ROSELLA CRES\, WULAGI\n\n
END:VEVENT
BEGIN:VTIMEZONE
TZID:Australia/Darwin
X-LIC-LOCATION:Australia/Darwin
BEGIN:STANDARD
DTSTART:20210414T180000
TZOFFSETFROM:+0930
TZOFFSETTO:+0930
TZNAME:ACST
END:STANDARD
END:VTIMEZONE
END:VCALENDAR