BEGIN:VCALENDAR
VERSION:2.0
PRODID:-//wp-events-plugin.com//7.2.3.1//EN
TZID:Australia/Darwin
X-WR-TIMEZONE:Australia/Darwin
BEGIN:VEVENT
UID:223@topendhash.com
DTSTART;TZID=Australia/Darwin:20220407T180000
DTEND;TZID=Australia/Darwin:20220407T234500
DTSTAMP:20220404T071411Z
URL:https://topendhash.com/events/1089/
SUMMARY:1089 - MR BALLDANGLES AND SKIDDY - Mr Ball Dangles and Skiddy - 31 
 Tambling Terrace Wanguri - CLICK ON THIS LINK FOR GOOGLE MAPS and Covid-19
  Restrictions
DESCRIPTION:COVID-19 RESTRICTIONS\n\nClick on the below link for COVID-19 R
 estrictions\n\nhttps://topendhash.com/covid-19-restrictions/\n\n&nbsp\;\n\
 n\n31 Tambling Terrace Wanguri\n\n\n
END:VEVENT
BEGIN:VTIMEZONE
TZID:Australia/Darwin
X-LIC-LOCATION:Australia/Darwin
BEGIN:STANDARD
DTSTART:20210407T180000
TZOFFSETFROM:+0930
TZOFFSETTO:+0930
TZNAME:ACST
END:STANDARD
END:VTIMEZONE
END:VCALENDAR