BEGIN:VCALENDAR
VERSION:2.0
PRODID:-//wp-events-plugin.com//7.2.3.1//EN
TZID:Australia/Darwin
X-WR-TIMEZONE:Australia/Darwin
BEGIN:VEVENT
UID:219@topendhash.com
DTSTART;TZID=Australia/Darwin:20220310T180000
DTEND;TZID=Australia/Darwin:20220310T234500
DTSTAMP:20220220T111056Z
URL:https://topendhash.com/events/1085/
SUMMARY:1085 - THIS IS A NO DOG RUN - HAPPY HOOKER & KARMA SUTRA & HAPPY CU
 STOMER - 319 THOMAS ROAD\,  HUMPTY DOO CLICK ON THIS LINK FOR MISDIRECTION
 S AND COVID-19 RESTRICTIONS
DESCRIPTION:COVID-19 RESTRICTIONS\n\nClick on the below link for COVID-19 R
 estrictions\n\nhttps://topendhash.com/covid-19-restrictions/\n\n&nbsp\;\n\
 n\n\nTHIS IS A NO DOG RUN\n\nLEAVE THEM AT HOME\n\n\n
END:VEVENT
BEGIN:VTIMEZONE
TZID:Australia/Darwin
X-LIC-LOCATION:Australia/Darwin
BEGIN:STANDARD
DTSTART:20210310T180000
TZOFFSETFROM:+0930
TZOFFSETTO:+0930
TZNAME:ACST
END:STANDARD
END:VTIMEZONE
END:VCALENDAR