BEGIN:VCALENDAR
VERSION:2.0
PRODID:-//wp-events-plugin.com//7.2.3.1//EN
TZID:Australia/Darwin
X-WR-TIMEZONE:Australia/Darwin
BEGIN:VEVENT
UID:218@topendhash.com
DTSTART;TZID=Australia/Darwin:20220303T180000
DTEND;TZID=Australia/Darwin:20220303T234500
DTSTAMP:20220227T232810Z
URL:https://topendhash.com/events/1084/
SUMMARY:1084 - BURGLER - KAHLIN COMPOUND REC AREA\, CNR OF KAHLIN AVE & LAM
 BELL TCE\, LARRAKEYAH - CLICK ON THIS LINK FOR MISDIRECTIONS AND COVID-19 
 RESTRICTIONS
DESCRIPTION:COVID-19 RESTRICTIONS\n\nClick on the below link for COVID-19 R
 estrictions\n\nhttps://topendhash.com/covid-19-restrictions/\n\n&nbsp\;\n\
 n
END:VEVENT
BEGIN:VTIMEZONE
TZID:Australia/Darwin
X-LIC-LOCATION:Australia/Darwin
BEGIN:STANDARD
DTSTART:20210303T180000
TZOFFSETFROM:+0930
TZOFFSETTO:+0930
TZNAME:ACST
END:STANDARD
END:VTIMEZONE
END:VCALENDAR