BEGIN:VCALENDAR
VERSION:2.0
PRODID:-//wp-events-plugin.com//7.2.3.1//EN
TZID:Australia/Darwin
X-WR-TIMEZONE:Australia/Darwin
BEGIN:VEVENT
UID:216@topendhash.com
DTSTART;TZID=Australia/Darwin:20220210T180000
DTEND;TZID=Australia/Darwin:20220210T234500
DTSTAMP:20220206T021513Z
URL:https://topendhash.com/events/1081/
SUMMARY:1081 - KILLER AND FLACID - 10 CARRINGTON STREET MILLNER - WEAR A BL
 ACK ARMBAND FOR "G"  -  CLICK ON THIS LINK FOR MISDIRECTIONS AND COVID-19 
 RESTRICTIONS
DESCRIPTION:COVID-19 RESTRICTIONS\n\nClick on the below link for COVID-19 R
 estrictions\n\nhttps://topendhash.com/covid-19-restrictions/\n\n&nbsp\;\n\
 n10 CARRINGTON ST\, MILLNER\n\n
END:VEVENT
BEGIN:VTIMEZONE
TZID:Australia/Darwin
X-LIC-LOCATION:Australia/Darwin
BEGIN:STANDARD
DTSTART:20210210T180000
TZOFFSETFROM:+0930
TZOFFSETTO:+0930
TZNAME:ACST
END:STANDARD
END:VTIMEZONE
END:VCALENDAR