BEGIN:VCALENDAR
VERSION:2.0
PRODID:-//wp-events-plugin.com//7.2.3.1//EN
TZID:Australia/Darwin
X-WR-TIMEZONE:Australia/Darwin
BEGIN:VEVENT
UID:214@topendhash.com
DTSTART;TZID=Australia/Darwin:20220203T180000
DTEND;TZID=Australia/Darwin:20220203T234500
DTSTAMP:20220130T103354Z
URL:https://topendhash.com/events/1080/
SUMMARY:1080 - ENOLA AND HIV - JINGILI WATER GARDENS - CLICK ON THIS LINK F
 OR MISDIRECTIONS AND COVID-19 REGULATIONS
DESCRIPTION:COVID-19 RESTRICTIONS\n\nClick on the below link for COVID-19 R
 estrictions\n\nhttps://topendhash.com/covid-19-restrictions/\n\n&nbsp\;\n\
 nJingili Water Gardens\n\nClick on the top left hand side of the map to en
 large\n\n
END:VEVENT
BEGIN:VTIMEZONE
TZID:Australia/Darwin
X-LIC-LOCATION:Australia/Darwin
BEGIN:STANDARD
DTSTART:20210203T180000
TZOFFSETFROM:+0930
TZOFFSETTO:+0930
TZNAME:ACST
END:STANDARD
END:VTIMEZONE
END:VCALENDAR