BEGIN:VCALENDAR
VERSION:2.0
PRODID:-//wp-events-plugin.com//7.2.3.1//EN
TZID:Australia/Darwin
X-WR-TIMEZONE:Australia/Darwin
BEGIN:VEVENT
UID:212@topendhash.com
DTSTART;TZID=Australia/Darwin:20220120T180000
DTEND;TZID=Australia/Darwin:20220120T234500
DTSTAMP:20220118T054151Z
URL:https://topendhash.com/events/1078-loose-lips-lois/
SUMMARY:1078 - LOOSE LIPS & LOIS - JINGILI WATER GARDENS - CLICK ON THIS LI
 NK FOR MISDIRECTIONS AND COVID-19 RESTRICTIONS
DESCRIPTION:COVID-19 RESTRICTIONS\n\nClick on the below link for COVID-19 R
 estrictions\n\nhttps://topendhash.com/covid-19-restrictions/\n\n&nbsp\;\n\
 nJingili Water Gardens\n\nClick on the top left hand side of the map to en
 large\n\n
LOCATION:JINGILI WATER GARDENS\, JINGILI\, JINGILI\, Australia
GEO:-12.386161;130.868129
X-APPLE-STRUCTURED-LOCATION;VALUE=URI;X-ADDRESS=JINGILI\, JINGILI\, Austral
 ia;X-APPLE-RADIUS=100;X-TITLE=JINGILI WATER GARDENS:geo:-12.386161,130.868
 129
END:VEVENT
BEGIN:VTIMEZONE
TZID:Australia/Darwin
X-LIC-LOCATION:Australia/Darwin
BEGIN:STANDARD
DTSTART:20210120T180000
TZOFFSETFROM:+0930
TZOFFSETTO:+0930
TZNAME:ACST
END:STANDARD
END:VTIMEZONE
END:VCALENDAR