BEGIN:VCALENDAR
VERSION:2.0
PRODID:-//wp-events-plugin.com//7.2.3.1//EN
TZID:Australia/Darwin
X-WR-TIMEZONE:Australia/Darwin
BEGIN:VEVENT
UID:210@topendhash.com
DTSTART;TZID=Australia/Darwin:20231228T180000
DTEND;TZID=Australia/Darwin:20231228T230000
DTSTAMP:20231222T004830Z
URL:https://topendhash.com/events/1077/
SUMMARY:Run Number 1183 - Skiddy and Balldangles - 31 Tambling Terrace\, Wa
 nguri – Click on this link for Misdirections
DESCRIPTION:31 Tambling Terrace\, Wanguri\n\n
END:VEVENT
BEGIN:VTIMEZONE
TZID:Australia/Darwin
X-LIC-LOCATION:Australia/Darwin
BEGIN:STANDARD
DTSTART:20221228T180000
TZOFFSETFROM:+0930
TZOFFSETTO:+0930
TZNAME:ACST
END:STANDARD
END:VTIMEZONE
END:VCALENDAR