BEGIN:VCALENDAR
VERSION:2.0
PRODID:-//wp-events-plugin.com//7.2.3.1//EN
TZID:Australia/Darwin
X-WR-TIMEZONE:Australia/Darwin
BEGIN:VEVENT
UID:209@topendhash.com
DTSTART;TZID=Australia/Darwin:20220106T180000
DTEND;TZID=Australia/Darwin:20220106T233000
DTSTAMP:20220106T045902Z
URL:https://topendhash.com/events/1076-no-dog-run-karoeke-and-knutty-18-sa
 ndlewood-crescent-nightcliff-click-on-this-link-for-misdirections/
SUMMARY:1076 - NO DOG RUN - CLICK ON LINK TO READ IMPORTANT INFORMATION ABO
 UT NT WIDE COVID LOCKOUT  RULES THAT APPLY - RUN SET BYKAROEKE AND KNUTTY 
 - 18 SANDLEWOOD CRESCENT NIGHTCLIFF - CLICK ON THIS LINK FOR MISDIRECTIONS
DESCRIPTION:As per today’s NT wide Covid Lockout\, only fully vaccinated 
 people can attend hash tonight\n\n\n\nTHIS IS A NO DOG RUN\n\n18 SANDLEWOO
 D CRESCENT\nNIGHTCLIFF \n\n
END:VEVENT
BEGIN:VTIMEZONE
TZID:Australia/Darwin
X-LIC-LOCATION:Australia/Darwin
BEGIN:STANDARD
DTSTART:20210106T180000
TZOFFSETFROM:+0930
TZOFFSETTO:+0930
TZNAME:ACST
END:STANDARD
END:VTIMEZONE
END:VCALENDAR