BEGIN:VCALENDAR
VERSION:2.0
PRODID:-//wp-events-plugin.com//7.2.3.1//EN
TZID:Australia/Darwin
X-WR-TIMEZONE:Australia/Darwin
BEGIN:VEVENT
UID:206@topendhash.com
DTSTART;TZID=Australia/Darwin:20211230T180000
DTEND;TZID=Australia/Darwin:20211230T233000
DTSTAMP:20211221T003256Z
URL:https://topendhash.com/events/1075-this-is-a-no-dog-run-happy-hooker-k
 arma-sutra-happy-customer-319-thomas-road-humpty-doo-click-on-this-link-fo
 r-misdirections/
SUMMARY:1075 - THIS IS A NO DOG RUN - HAPPY HOOKER & KARMA SUTRA & HAPPY CU
 STOMER - 319 THOMAS ROAD\,  HUMPTY DOO CLICK ON THIS LINK FOR MISDIRECTION
 S
DESCRIPTION:THIS IS A NO DOG RUN\n\nLEAVE THEM AT HOME\n\n\n\n
END:VEVENT
BEGIN:VTIMEZONE
TZID:Australia/Darwin
X-LIC-LOCATION:Australia/Darwin
BEGIN:STANDARD
DTSTART:20201230T180000
TZOFFSETFROM:+0930
TZOFFSETTO:+0930
TZNAME:ACST
END:STANDARD
END:VTIMEZONE
END:VCALENDAR