BEGIN:VCALENDAR
VERSION:2.0
PRODID:-//wp-events-plugin.com//7.2.3.1//EN
TZID:Australia/Darwin
X-WR-TIMEZONE:Australia/Darwin
BEGIN:VEVENT
UID:201@topendhash.com
DTSTART;TZID=Australia/Darwin:20211202T180000
DTEND;TZID=Australia/Darwin:20211202T233000
DTSTAMP:20211128T120931Z
URL:https://topendhash.com/events/1071/
SUMMARY:1071 - KILLER AND FLACID - KNUCKEY RESERVE OFF BRANDT RD - CLICK ON
  THIS LINK FOR MISDIRECTIONS  -  THIS IS A NO DOG RUN
DESCRIPTION:KNUCKEY RESERVE OFF BRANDT RD\n\nTHIS IS A NO DOG RUN\n\n\n\n\n
 \n\n\n\n
END:VEVENT
BEGIN:VTIMEZONE
TZID:Australia/Darwin
X-LIC-LOCATION:Australia/Darwin
BEGIN:STANDARD
DTSTART:20201202T180000
TZOFFSETFROM:+0930
TZOFFSETTO:+0930
TZNAME:ACST
END:STANDARD
END:VTIMEZONE
END:VCALENDAR